BEGIN:VCALENDAR
VERSION:2.0
PRODID:-//Cultural Arts Center - ECPv6.15.20//NONSGML v1.0//EN
CALSCALE:GREGORIAN
METHOD:PUBLISH
X-WR-CALNAME:Cultural Arts Center
X-ORIGINAL-URL:https://www.fcculturalartscenter.org
X-WR-CALDESC:Events for Cultural Arts Center
REFRESH-INTERVAL;VALUE=DURATION:PT1H
X-Robots-Tag:noindex
X-PUBLISHED-TTL:PT1H
BEGIN:VTIMEZONE
TZID:America/Kentucky/Louisville
BEGIN:DAYLIGHT
TZOFFSETFROM:-0500
TZOFFSETTO:-0400
TZNAME:EDT
DTSTART:20240310T070000
END:DAYLIGHT
BEGIN:STANDARD
TZOFFSETFROM:-0400
TZOFFSETTO:-0500
TZNAME:EST
DTSTART:20241103T060000
END:STANDARD
BEGIN:DAYLIGHT
TZOFFSETFROM:-0500
TZOFFSETTO:-0400
TZNAME:EDT
DTSTART:20250309T070000
END:DAYLIGHT
BEGIN:STANDARD
TZOFFSETFROM:-0400
TZOFFSETTO:-0500
TZNAME:EST
DTSTART:20251102T060000
END:STANDARD
BEGIN:DAYLIGHT
TZOFFSETFROM:-0500
TZOFFSETTO:-0400
TZNAME:EDT
DTSTART:20260308T070000
END:DAYLIGHT
BEGIN:STANDARD
TZOFFSETFROM:-0400
TZOFFSETTO:-0500
TZNAME:EST
DTSTART:20261101T060000
END:STANDARD
END:VTIMEZONE
BEGIN:VEVENT
DTSTART;TZID=America/Kentucky/Louisville:20250918T173000
DTEND;TZID=America/Kentucky/Louisville:20250918T190000
DTSTAMP:20260424T170233
CREATED:20250808T142333Z
LAST-MODIFIED:20250808T142618Z
UID:7046-1758216600-1758222000@www.fcculturalartscenter.org
SUMMARY:Art History Illustrated\, Meaning and Mystery: Ancient Rock Art of North America
DESCRIPTION:« All Events\n 				\n				\n				\n				\n					This event has passed. \n				\n				\n				\n				\n					\n	Art History Illustrated\, Meaning and Mystery: Ancient Rock Art of North America				\n				\n				\n				\n					\n		\n			September 18\n\n	\n\n	     \n\n\n5:30 pm\n\n		\n\n\n\n	\n	  -  \n\n7:00 pm\n\n\n\n	\n				\n				\n				\n				\n							\n			\n		\n						\n				\n				\n				\n																														\n				\n				\n				\n							\n			\n		\n						\n				\n				\n				\n									The whole planet teems with indigenous petroglyphs\, prehistoric rock carvings that are found on every inhabited continent. Ancient pictographs\, or paintings on rock\, also exist worldwide\, although they are less likely to have survived. Join art historian Brenda Edgar for a tour of the enigmatic rock art of our own continent\, including the desert Southwest\, where the climate has helped many of these ancient images to endure. Their iconography runs the gamut from animal and human subjects to celestial bodies and abstract forms.  In this richly illustrated talk\, you’ll attempt to discover what these mysterious pictures might mean\, who made them\, and why they were made. What ties examples from disparate places together\, and what makes each site distinctive? What do they teach us about our nature and history as a species? This program is intended for adults. Join us for our “Art History Illustrated” talk series\, held the third Thursday of every month at 5:30 p.m. This monthly illustrated talk series is presented by art historian Brenda Edgar\, in collaboration with The Floyd County Carnegie Library Cultural Arts Center. 								\n				\n				\n				\n							\n			\n		\n						\n				\n				\n				\n					Register Online				\n				\n				\n						\n					\n			\n						\n				\n					\n	\n\n	Categories:	\n		Events	\n\n				\n				\n				\n				\n					\n	\n	Tags:	\n		\n	Event\n	\n\n				\n				\n					\n		\n				\n			\n							\n		\n					\n		\n				\n						\n					\n			\n						\n				\n					\n				\n				\n	\n	Cultural Arts Center\n	\n	\n\n201 East Spring Street\n	\n		\n		New Albany\,\n\n	IN\n\n	47150\n\n	United States\n\n\n\n\n	+ Google Map \n\n\n	\n					\n			(812) 944-7336			\n	 \n\n\n	\n	 \n\n\n\n	\n\n\n\n		\n	\n				\n				\n					\n		\n					\n		\n				\n						\n					\n			\n						\n				\n					\n	\n		\n\n	\n	Add to calendar	\n		\n	\n\n		\n			\n									\n	Google Calendar\n\n									\n	iCalendar\n\n									\n	Outlook 365\n\n									\n	Outlook Live\n\n							\n		\n\n		\n	\n\n				\n				\n					\n		\n					\n		\n				\n						\n					\n			\n						\n				\n					\n	\n		\n\n				"Why Quilts Matter: History\, Art & Politics" Screening	\n\n\n		\n	\n		Camp Half-Blood: Weaving with Athena
URL:https://www.fcculturalartscenter.org/event/art-history-illustrated-meaning-and-mystery-ancient-rock-art-of-north-america/
LOCATION:Cultural Arts Center\, 201 East Spring Street\, New Albany\, IN\, 47150\, United States
CATEGORIES:Events
ATTACH;FMTTYPE=image/jpeg:https://www.fcculturalartscenter.org/wp-content/uploads/2025/08/Ancient-Rock-Art.jpeg
END:VEVENT
END:VCALENDAR