BEGIN:VCALENDAR
VERSION:2.0
PRODID:-//Cultural Arts Center - ECPv6.15.20//NONSGML v1.0//EN
CALSCALE:GREGORIAN
METHOD:PUBLISH
X-WR-CALNAME:Cultural Arts Center
X-ORIGINAL-URL:https://www.fcculturalartscenter.org
X-WR-CALDESC:Events for Cultural Arts Center
REFRESH-INTERVAL;VALUE=DURATION:PT1H
X-Robots-Tag:noindex
X-PUBLISHED-TTL:PT1H
BEGIN:VTIMEZONE
TZID:America/Kentucky/Louisville
BEGIN:DAYLIGHT
TZOFFSETFROM:-0500
TZOFFSETTO:-0400
TZNAME:EDT
DTSTART:20240310T070000
END:DAYLIGHT
BEGIN:STANDARD
TZOFFSETFROM:-0400
TZOFFSETTO:-0500
TZNAME:EST
DTSTART:20241103T060000
END:STANDARD
BEGIN:DAYLIGHT
TZOFFSETFROM:-0500
TZOFFSETTO:-0400
TZNAME:EDT
DTSTART:20250309T070000
END:DAYLIGHT
BEGIN:STANDARD
TZOFFSETFROM:-0400
TZOFFSETTO:-0500
TZNAME:EST
DTSTART:20251102T060000
END:STANDARD
BEGIN:DAYLIGHT
TZOFFSETFROM:-0500
TZOFFSETTO:-0400
TZNAME:EDT
DTSTART:20260308T070000
END:DAYLIGHT
BEGIN:STANDARD
TZOFFSETFROM:-0400
TZOFFSETTO:-0500
TZNAME:EST
DTSTART:20261101T060000
END:STANDARD
END:VTIMEZONE
BEGIN:VEVENT
DTSTART;TZID=America/Kentucky/Louisville:20250910T163000
DTEND;TZID=America/Kentucky/Louisville:20250910T180000
DTSTAMP:20260424T220233
CREATED:20250808T141005Z
LAST-MODIFIED:20250808T141246Z
UID:7040-1757521800-1757527200@www.fcculturalartscenter.org
SUMMARY:Artistry Unleashed: Frida Kahlo and Pet Painting
DESCRIPTION:« All Events\n 				\n				\n				\n				\n					This event has passed. \n				\n				\n				\n				\n					\n	Artistry Unleashed: Frida Kahlo and Pet Painting				\n				\n				\n				\n					\n		\n			September 10\n\n	\n\n	     \n\n\n4:30 pm\n\n		\n\n\n\n	\n	  -  \n\n6:00 pm\n\n\n\n	\n				\n				\n				\n				\n							\n			\n		\n						\n				\n				\n				\n																														\n				\n				\n				\n							\n			\n		\n						\n				\n				\n				\n									Join us at The Cultural Arts Center for an afternoon to learn about a different type of art each month\, with a reading of a book about the art or artist for inspiration. You will be able to create your own imaginative masterpiece! All art pieces will be different\, because everyone sees and feels art differently. This program is a chance to learn and be creative. All supplies will be provided! Best for children in K – 5th grade\, but all youth and caregivers are welcome.  								\n				\n				\n				\n							\n			\n		\n						\n				\n				\n				\n					Register Online				\n				\n				\n						\n					\n			\n						\n				\n					\n	\n\n	Categories:	\n		Events	\n\n				\n				\n				\n				\n					\n	\n	Tags:	\n		\n	Event\n	\n\n				\n				\n					\n		\n				\n			\n							\n		\n					\n		\n				\n						\n					\n			\n						\n				\n					\n				\n				\n	\n	Cultural Arts Center\n	\n	\n\n201 East Spring Street\n	\n		\n		New Albany\,\n\n	IN\n\n	47150\n\n	United States\n\n\n\n\n	+ Google Map \n\n\n	\n					\n			(812) 944-7336			\n	 \n\n\n	\n	 \n\n\n\n	\n\n\n\n		\n	\n				\n				\n					\n		\n					\n		\n				\n						\n					\n			\n						\n				\n					\n	\n		\n\n	\n	Add to calendar	\n		\n	\n\n		\n			\n									\n	Google Calendar\n\n									\n	iCalendar\n\n									\n	Outlook 365\n\n									\n	Outlook Live\n\n							\n		\n\n		\n	\n\n				\n				\n					\n		\n					\n		\n				\n						\n					\n			\n						\n				\n					\n	\n		\n\n				Opening Reception for Threads of Industry: Labor and Life in New Albany's Textile Factories	\n\n\n		\n	\n		Make & Take: Hanging Read Sign
URL:https://www.fcculturalartscenter.org/event/artistry-unleashed-frida-kahlo-and-pet-painting/
LOCATION:Cultural Arts Center\, 201 East Spring Street\, New Albany\, IN\, 47150\, United States
CATEGORIES:Events
ATTACH;FMTTYPE=image/jpeg:https://www.fcculturalartscenter.org/wp-content/uploads/2025/08/Frida-Kahlo-Birds.jpeg
END:VEVENT
END:VCALENDAR