BEGIN:VCALENDAR
VERSION:2.0
PRODID:-//Cultural Arts Center - ECPv6.15.20//NONSGML v1.0//EN
CALSCALE:GREGORIAN
METHOD:PUBLISH
X-WR-CALNAME:Cultural Arts Center
X-ORIGINAL-URL:https://www.fcculturalartscenter.org
X-WR-CALDESC:Events for Cultural Arts Center
REFRESH-INTERVAL;VALUE=DURATION:PT1H
X-Robots-Tag:noindex
X-PUBLISHED-TTL:PT1H
BEGIN:VTIMEZONE
TZID:America/Kentucky/Louisville
BEGIN:DAYLIGHT
TZOFFSETFROM:-0500
TZOFFSETTO:-0400
TZNAME:EDT
DTSTART:20240310T070000
END:DAYLIGHT
BEGIN:STANDARD
TZOFFSETFROM:-0400
TZOFFSETTO:-0500
TZNAME:EST
DTSTART:20241103T060000
END:STANDARD
BEGIN:DAYLIGHT
TZOFFSETFROM:-0500
TZOFFSETTO:-0400
TZNAME:EDT
DTSTART:20250309T070000
END:DAYLIGHT
BEGIN:STANDARD
TZOFFSETFROM:-0400
TZOFFSETTO:-0500
TZNAME:EST
DTSTART:20251102T060000
END:STANDARD
BEGIN:DAYLIGHT
TZOFFSETFROM:-0500
TZOFFSETTO:-0400
TZNAME:EDT
DTSTART:20260308T070000
END:DAYLIGHT
BEGIN:STANDARD
TZOFFSETFROM:-0400
TZOFFSETTO:-0500
TZNAME:EST
DTSTART:20261101T060000
END:STANDARD
END:VTIMEZONE
BEGIN:VEVENT
DTSTART;TZID=America/Kentucky/Louisville:20251008T163000
DTEND;TZID=America/Kentucky/Louisville:20251008T180000
DTSTAMP:20260425T030501
CREATED:20250923T143755Z
LAST-MODIFIED:20250923T144156Z
UID:7145-1759941000-1759946400@www.fcculturalartscenter.org
SUMMARY:Artistry Unleashed: Pablo Picasso and Cubism Collage
DESCRIPTION:« All Events\n 				\n				\n				\n				\n					This event has passed. \n				\n				\n				\n				\n					\n	Artistry Unleashed: Pablo Picasso and Cubism Collage				\n				\n				\n				\n					\n		\n			October 8\n\n	\n\n	     \n\n\n4:30 pm\n\n		\n\n\n\n	\n	  -  \n\n6:00 pm\n\n\n\n	\n				\n				\n				\n				\n							\n			\n		\n						\n				\n				\n				\n																														\n				\n				\n				\n							\n			\n		\n						\n				\n				\n				\n									Looking for a creative way to spend an afternoon with your kids? Each month we dive into a new kind of art\, starting with a fun story about the art or artist for inspiration. This month we’re going Picasso-style! After our book reading\, you and your little artists can create your own bold and quirky Cubism collages. No two masterpieces will look alike\, because everyone sees art in their own special way. We provide all the supplies. Just bring your curiosity and imagination. It’s a hands-on way to learn\, laugh\, and get creative together! \nRegistration is required. Best for children in K-5th grade. \nImage: Picasso’s “Guitar and Mandolin”\, 1924 								\n				\n				\n				\n							\n			\n		\n						\n				\n				\n				\n					Register Online				\n				\n				\n						\n					\n			\n						\n				\n					\n	\n\n	Categories:	\n		Events	\n\n				\n				\n				\n				\n					\n	\n	Tags:	\n		\n	Event\n	\n\n				\n				\n					\n		\n				\n			\n							\n		\n					\n		\n				\n						\n					\n			\n						\n				\n					\n				\n				\n	\n	Cultural Arts Center\n	\n	\n\n201 East Spring Street\n	\n		\n		New Albany\,\n\n	IN\n\n	47150\n\n	United States\n\n\n\n\n	+ Google Map \n\n\n	\n					\n			(812) 944-7336			\n	 \n\n\n	\n	 \n\n\n\n	\n\n\n\n		\n	\n				\n				\n					\n		\n					\n		\n				\n						\n					\n			\n						\n				\n					\n	\n		\n\n	\n	Add to calendar	\n		\n	\n\n		\n			\n									\n	Google Calendar\n\n									\n	iCalendar\n\n									\n	Outlook 365\n\n									\n	Outlook Live\n\n							\n		\n\n		\n	\n\n				\n				\n					\n		\n					\n		\n				\n						\n					\n			\n						\n				\n					\n	\n		\n\n				CAC Family Cinema: Hocus Pocus	\n\n\n		\n	\n		Art in Autumn: Feathered Friends & Autumn Skies
URL:https://www.fcculturalartscenter.org/event/artistry-unleashed-pablo-picasso-and-cubism-collage/
LOCATION:Cultural Arts Center\, 201 East Spring Street\, New Albany\, IN\, 47150\, United States
CATEGORIES:Events
ATTACH;FMTTYPE=image/jpeg:https://www.fcculturalartscenter.org/wp-content/uploads/2025/09/Pablo-Picasso-and-Cubism-Collage.jpeg
END:VEVENT
END:VCALENDAR