BEGIN:VCALENDAR
VERSION:2.0
PRODID:-//Cultural Arts Center - ECPv6.15.20//NONSGML v1.0//EN
CALSCALE:GREGORIAN
METHOD:PUBLISH
X-WR-CALNAME:Cultural Arts Center
X-ORIGINAL-URL:https://www.fcculturalartscenter.org
X-WR-CALDESC:Events for Cultural Arts Center
REFRESH-INTERVAL;VALUE=DURATION:PT1H
X-Robots-Tag:noindex
X-PUBLISHED-TTL:PT1H
BEGIN:VTIMEZONE
TZID:America/Kentucky/Louisville
BEGIN:DAYLIGHT
TZOFFSETFROM:-0500
TZOFFSETTO:-0400
TZNAME:EDT
DTSTART:20240310T070000
END:DAYLIGHT
BEGIN:STANDARD
TZOFFSETFROM:-0400
TZOFFSETTO:-0500
TZNAME:EST
DTSTART:20241103T060000
END:STANDARD
BEGIN:DAYLIGHT
TZOFFSETFROM:-0500
TZOFFSETTO:-0400
TZNAME:EDT
DTSTART:20250309T070000
END:DAYLIGHT
BEGIN:STANDARD
TZOFFSETFROM:-0400
TZOFFSETTO:-0500
TZNAME:EST
DTSTART:20251102T060000
END:STANDARD
BEGIN:DAYLIGHT
TZOFFSETFROM:-0500
TZOFFSETTO:-0400
TZNAME:EDT
DTSTART:20260308T070000
END:DAYLIGHT
BEGIN:STANDARD
TZOFFSETFROM:-0400
TZOFFSETTO:-0500
TZNAME:EST
DTSTART:20261101T060000
END:STANDARD
END:VTIMEZONE
BEGIN:VEVENT
DTSTART;TZID=America/Kentucky/Louisville:20250930T120000
DTEND;TZID=America/Kentucky/Louisville:20250930T130000
DTSTAMP:20260424T091156
CREATED:20250923T142051Z
LAST-MODIFIED:20250923T142233Z
UID:7124-1759233600-1759237200@www.fcculturalartscenter.org
SUMMARY:Lunch and Learn: Payne Hollow on the Ohio\, with Joe Wolek
DESCRIPTION:« All Events\n 				\n				\n				\n				\n					This event has passed. \n				\n				\n				\n				\n					\n	Lunch and Learn: Payne Hollow on the Ohio\, with Joe Wolek				\n				\n				\n				\n					\n		\n			September 30\n\n	\n\n	     \n\n\n12:00 pm\n\n		\n\n\n\n	\n	  -  \n\n1:00 pm\n\n\n\n	\n				\n				\n				\n				\n							\n			\n		\n						\n				\n				\n				\n																														\n				\n				\n				\n							\n			\n		\n						\n				\n				\n				\n									During the 2025 Lunch and Learn calendar year we have been focusing on stories of progress along the Ohio River. Building up over the last couple of years\, a synergy has developed among many interested groups of people that could lead to governmental funding opportunities and a greater appreciation and respect for the life along the 981 mile length of the Ohio River proper. Of course\, this watershed is bigger than that. A recognition that a major river flows between Louisville and southern Indiana is one of the biggest positive developments in this area in the past thirty years. The rediscovery and reexamination of the extraordinary story of Harlan and Anna Hubbard\, whose lives have become exemplary examples of living ecologically-sustainable and aesthetically-rich lives\, is also a symbol of this movement. Harlan was a well-known visual artist and Anna was a musician. After marrying in the 1940s\, the Hubbards built and lived aboard a shanty boat\, and later during the early 1950s built a home on the river in Trimble County\, Kentucky and named it Payne Hollow. Their lives were simple but rich. They lived without electricity and grew their own food. Today this site is more easily accessed from the river\, and Payne Hollow is directly across the Ohio River from Madison\, Indiana. Our speaker Joe Wolek is also an artist and had been engaged on a journey of his own when his life changed suddenly. Although born in Kentucky\, Joe grew up in California and became a professional photographer and site location manager for major advertising campaigns that took him around the world. During a photo/business trip to Argentina\, Joe was assaulted for his camera equipment and seriously injured. During the recovery process\, Wolek returned to the Commonwealth of Kentucky and was introduced to both the Ohio River and to the Hubbards’ important legacy which resonated with him. Today\, Joe and his wife Lena (a potter of note) have purchased property near Payne Hollow and are founding members of a not-for-profit organization with an all-volunteer board. Now that the property has been purchased\, the intention is to secure and save the site for future use and appreciation. It is a goal of this nonprofit to have Payne Hollow designated as a National Historic Landmark. On Tuesday\, September 30th you have your chance to learn more about the plans for Payne Hollow\, and to meet Joe Wolek. Free and open to the public\, but reservations are requested. You are welcome to bring a lunch. 								\n				\n				\n				\n							\n			\n		\n						\n				\n				\n				\n					Register Online				\n				\n				\n						\n					\n			\n						\n				\n					\n	\n\n	Categories:	\n		Events	\n\n				\n				\n				\n				\n					\n	\n	Tags:	\n		\n	Event\n	\n\n				\n				\n					\n		\n				\n			\n							\n		\n					\n		\n				\n						\n					\n			\n						\n				\n					\n				\n				\n	\n	Cultural Arts Center\n	\n	\n\n201 East Spring Street\n	\n		\n		New Albany\,\n\n	IN\n\n	47150\n\n	United States\n\n\n\n\n	+ Google Map \n\n\n	\n					\n			(812) 944-7336			\n	 \n\n\n	\n	 \n\n\n\n	\n\n\n\n		\n	\n				\n				\n					\n		\n					\n		\n				\n						\n					\n			\n						\n				\n					\n	\n		\n\n	\n	Add to calendar	\n		\n	\n\n		\n			\n									\n	Google Calendar\n\n									\n	iCalendar\n\n									\n	Outlook 365\n\n									\n	Outlook Live\n\n							\n		\n\n		\n	\n\n				\n				\n					\n		\n					\n		\n				\n						\n					\n			\n						\n				\n					\n	\n		\n\n				CAC Family Cinema: Casper	\n\n\n		\n	\n		CAC Family Cinema: Hocus Pocus
URL:https://www.fcculturalartscenter.org/event/lunch-and-learn-payne-hollow-on-the-ohio-with-joe-wolek/
LOCATION:Cultural Arts Center\, 201 East Spring Street\, New Albany\, IN\, 47150\, United States
CATEGORIES:Events
ATTACH;FMTTYPE=image/jpeg:https://www.fcculturalartscenter.org/wp-content/uploads/2025/09/Payne-Hollow.jpg
END:VEVENT
END:VCALENDAR