BEGIN:VCALENDAR
VERSION:2.0
PRODID:-//Cultural Arts Center - ECPv6.15.20//NONSGML v1.0//EN
CALSCALE:GREGORIAN
METHOD:PUBLISH
X-WR-CALNAME:Cultural Arts Center
X-ORIGINAL-URL:https://www.fcculturalartscenter.org
X-WR-CALDESC:Events for Cultural Arts Center
REFRESH-INTERVAL;VALUE=DURATION:PT1H
X-Robots-Tag:noindex
X-PUBLISHED-TTL:PT1H
BEGIN:VTIMEZONE
TZID:America/Kentucky/Louisville
BEGIN:DAYLIGHT
TZOFFSETFROM:-0500
TZOFFSETTO:-0400
TZNAME:EDT
DTSTART:20240310T070000
END:DAYLIGHT
BEGIN:STANDARD
TZOFFSETFROM:-0400
TZOFFSETTO:-0500
TZNAME:EST
DTSTART:20241103T060000
END:STANDARD
BEGIN:DAYLIGHT
TZOFFSETFROM:-0500
TZOFFSETTO:-0400
TZNAME:EDT
DTSTART:20250309T070000
END:DAYLIGHT
BEGIN:STANDARD
TZOFFSETFROM:-0400
TZOFFSETTO:-0500
TZNAME:EST
DTSTART:20251102T060000
END:STANDARD
BEGIN:DAYLIGHT
TZOFFSETFROM:-0500
TZOFFSETTO:-0400
TZNAME:EDT
DTSTART:20260308T070000
END:DAYLIGHT
BEGIN:STANDARD
TZOFFSETFROM:-0400
TZOFFSETTO:-0500
TZNAME:EST
DTSTART:20261101T060000
END:STANDARD
END:VTIMEZONE
BEGIN:VEVENT
DTSTART;TZID=America/Kentucky/Louisville:20250913T110000
DTEND;TZID=America/Kentucky/Louisville:20250913T130000
DTSTAMP:20260424T184250
CREATED:20250903T145717Z
LAST-MODIFIED:20250903T145917Z
UID:7096-1757761200-1757768400@www.fcculturalartscenter.org
SUMMARY:"Why Quilts Matter: History\, Art & Politics" Screening
DESCRIPTION:« All Events\n 				\n				\n				\n				\n					This event has passed. \n				\n				\n				\n				\n					\n	“Why Quilts Matter: History\, Art & Politics” Screening				\n				\n				\n				\n					\n		\n			September 13\n\n	\n\n	     \n\n\n11:00 am\n\n		\n\n\n\n	\n	  -  \n\n1:00 pm\n\n\n\n	\n				\n				\n				\n				\n							\n			\n		\n						\n				\n				\n				\n																														\n				\n				\n				\n							\n			\n		\n						\n				\n				\n				\n									Why Quilts Matter: History\, Art & Politics is a fascinating documentary series that explores quilts in new ways by taking you behind the scenes to reveal the unique position of quilts at the center of American culture. Originally released on DVD in 2011\, the nine-part series was created by The Kentucky Quilt Project\, Inc.\, a non-profit organization that created the first of the state quilt documentation projects in the 1980s. Executive Producer and Host for the Why Quilts Matter: History\, Art & Politics series\, Shelly Zegart\, a co-founder of The Kentucky Quilt Project\, Inc.\, The Alliance for American Quilts\, and an expert at the forefront of quilt study for over three decades\, created the first series for television to show the world that quilts are bigger than people think. With Zegart’s recent passing in July 2025 in Louisville\, KY\, we wanted to revisit this series and take a moment to recognize her continued impact on the research and scholarship of quilts. We will be showing the Why Quilts Matter episodes “What is Art?” and “Empowering Women One Quilt at a Time”; all episodes are available streaming on ket.org. Host Kathleen Loomis (right) will introduce the series and facilitate a brief discussion afterward. Kathy has been making quilts since high school\, well before they became popular as an art form. About 30 years ago she switched her focus from functional quilts to those intended as art. In recent years she has branched out from quilts to mixed media\, including collage\, 3-D assemblage and hand stitching. She is a member of the artist co-op PYRO Gallery in Louisville. Kathy is one of the founders of the Form\, Not Function art quilt exhibition at the Carnegie Library Cultural Arts Center. Free for all ages. Registration is recommended\, but not required. 								\n				\n				\n				\n							\n			\n		\n						\n				\n				\n				\n					Register Online				\n				\n				\n						\n					\n			\n						\n				\n					\n	\n\n	Categories:	\n		Events	\n\n				\n				\n					\n		\n				\n			\n							\n		\n					\n		\n				\n						\n					\n			\n						\n				\n					\n				\n				\n	\n	Cultural Arts Center\n	\n	\n\n201 East Spring Street\n	\n		\n		New Albany\,\n\n	IN\n\n	47150\n\n	United States\n\n\n\n\n	+ Google Map \n\n\n	\n					\n			(812) 944-7336			\n	 \n\n\n	\n	 \n\n\n\n	\n\n\n\n		\n	\n				\n				\n					\n		\n					\n		\n				\n						\n					\n			\n						\n				\n					\n	\n		\n\n	\n	Add to calendar	\n		\n	\n\n		\n			\n									\n	Google Calendar\n\n									\n	iCalendar\n\n									\n	Outlook 365\n\n									\n	Outlook Live\n\n							\n		\n\n		\n	\n\n				\n				\n					\n		\n					\n		\n				\n						\n					\n			\n						\n				\n					\n	\n		\n\n				Make & Take: Hanging Read Sign	\n\n\n		\n	\n		Art History Illustrated\, Meaning and Mystery: Ancient Rock Art of North America
URL:https://www.fcculturalartscenter.org/event/why-quilts-matter-history-art-politics-screening/
LOCATION:Cultural Arts Center\, 201 East Spring Street\, New Albany\, IN\, 47150\, United States
CATEGORIES:Events
ATTACH;FMTTYPE=image/jpeg:https://www.fcculturalartscenter.org/wp-content/uploads/2025/09/WhyQuiltsMatter.jpg
END:VEVENT
END:VCALENDAR